BEGIN:VCALENDAR
VERSION:2.0
CALSCALE:GREGORIAN
METHOD:PUBLISH
PRODID://SCRD//516337
BEGIN:VEVENT
DTSTAMP:20260421T093945
VTIMEZONE:America/Los_Angeles
DTSTART:20260523T183000Z
DTEND:20260523T203000Z
UID:516337
SUMMARY:SCRID End of Year Celebration
LOCATION:Greater Los Angeles Agency on Deafness, Inc., 2222 Laverna Ave., Los Angeles, Ca, 90041
DESCRIPTION:SCRID End of Year Celebration\n\n05/23/26 11:30 AM PST\n - 05/23/26 01:30 PM PST\Details:\nFollowing the professional development activity with Belinda McCleese, stay or join us for SCRID's annual Lou Fant Ceremony, our ceremonial recognition of scholarship awardees and our ITP/IEP most recent graduates. As icing on the cake, join us downstairs for sweet treats and the opportunity to network and connect.\n\nRSVP requested (no registration fees)\Location:\nGreater Los Angeles Agency on Deafness, Inc.\n2222 Laverna Ave.\nLos Angeles, Ca 90041
X-ALT-DESC;FMTTYPE=text/html:SCRID End of Year Celebration<br /><br />05/23/26 11:30 AM PST - 05/23/26 01:30 PM PST<br />Details:<br />Following the professional development activity with Belinda McCleese, stay or join us for SCRID's annual Lou Fant Ceremony, our ceremonial recognition of scholarship awardees and our ITP/IEP most recent graduates. As icing on the cake, join us downstairs for sweet treats and the opportunity to network and connect.<br />
<br />
RSVP requested (no registration fees)<br />Location:<br />Greater Los Angeles Agency on Deafness, Inc.<br />2222 Laverna Ave.<br />Los Angeles, Ca 90041
PRIORITY:3
TRANSP:TRANSPARENT
BEGIN:VALARM
TRIGGER:-PT5M
ACTION:DISPLAY
DESCRIPTION:Reminder
END:VALARM
END:VEVENT
END:VCALENDAR
